BEGIN:VCALENDAR
VERSION:2.0
PRODID:-//clubinone//NONSGML clubinone.de iCalcreator 2.22.1//
METHOD:PUBLISH
BEGIN:VEVENT
UID:20260423T122711-69e9f3ff4517f@online.golfclub-karwendel.de
DTSTAMP:20260423T122711
DESCRIPTION:Strawberry-Tour:\nEinzel - 1\, 18-Löcher (vorgabewirksam)
DTSTART:20260502
DTEND:20260503
LOCATION:Golf- &  Landclub Karwendel e.V.
SUMMARY:Strawberry-Tour
END:VEVENT
END:VCALENDAR