BEGIN:VCALENDAR
VERSION:2.0
PRODID:-//clubinone//NONSGML clubinone.de iCalcreator 2.22.1//
METHOD:PUBLISH
BEGIN:VEVENT
UID:20260423T122726-69e9f40e345ca@online.golfclub-karwendel.de
DTSTAMP:20260423T122726
DESCRIPTION:[Abgesagt]Strawberry-Tour:\nEinzel - 1\, 18-Löcher (vorgabewirksam)
DTSTART:20260425
DTEND:20260426
LOCATION:Golf- &  Landclub Karwendel e.V.
SUMMARY:[Abgesagt]Strawberry-Tour
END:VEVENT
END:VCALENDAR