BEGIN:VCALENDAR
VERSION:2.0
PRODID:-//clubinone//NONSGML clubinone.de iCalcreator 2.22.1//
METHOD:PUBLISH
BEGIN:VEVENT
UID:20260423T122701-69e9f3f51d953@online.golfclub-karwendel.de
DTSTAMP:20260423T122701
DESCRIPTION:4. Men`s Day    :\nEinzel - 1\, 9-Löcher (vorgabewirksam)
DTSTART:20260429
DTEND:20260430
LOCATION:Golf- &  Landclub Karwendel e.V.
SUMMARY:4. Men`s Day    
END:VEVENT
END:VCALENDAR