BEGIN:VCALENDAR
VERSION:2.0
PRODID:-//clubinone//NONSGML clubinone.de iCalcreator 2.22.1//
METHOD:PUBLISH
BEGIN:VEVENT
UID:20260423T122231-69e9f2e7d7452@online.golfclub-karwendel.de
DTSTAMP:20260423T122231
DESCRIPTION:3. Men`s Day:\nEinzel - 1\, 9-Löcher
DTSTART:20260423
DTEND:20260424
LOCATION:Golf- &  Landclub Karwendel e.V.
SUMMARY:3. Men`s Day
END:VEVENT
END:VCALENDAR